BEGIN:VCALENDAR
VERSION:2.0
PRODID:-//Het Westeraam - ECPv6.15.16//NONSGML v1.0//EN
CALSCALE:GREGORIAN
METHOD:PUBLISH
X-WR-CALNAME:Het Westeraam
X-ORIGINAL-URL:https://hetwesteraam.nl
X-WR-CALDESC:Evenementen voor Het Westeraam
REFRESH-INTERVAL;VALUE=DURATION:PT1H
X-Robots-Tag:noindex
X-PUBLISHED-TTL:PT1H
BEGIN:VTIMEZONE
TZID:Europe/Amsterdam
BEGIN:DAYLIGHT
TZOFFSETFROM:+0100
TZOFFSETTO:+0200
TZNAME:CEST
DTSTART:20250330T010000
END:DAYLIGHT
BEGIN:STANDARD
TZOFFSETFROM:+0200
TZOFFSETTO:+0100
TZNAME:CET
DTSTART:20251026T010000
END:STANDARD
BEGIN:DAYLIGHT
TZOFFSETFROM:+0100
TZOFFSETTO:+0200
TZNAME:CEST
DTSTART:20260329T010000
END:DAYLIGHT
BEGIN:STANDARD
TZOFFSETFROM:+0200
TZOFFSETTO:+0100
TZNAME:CET
DTSTART:20261025T010000
END:STANDARD
BEGIN:DAYLIGHT
TZOFFSETFROM:+0100
TZOFFSETTO:+0200
TZNAME:CEST
DTSTART:20270328T010000
END:DAYLIGHT
BEGIN:STANDARD
TZOFFSETFROM:+0200
TZOFFSETTO:+0100
TZNAME:CET
DTSTART:20271031T010000
END:STANDARD
BEGIN:DAYLIGHT
TZOFFSETFROM:+0100
TZOFFSETTO:+0200
TZNAME:CEST
DTSTART:20280326T010000
END:DAYLIGHT
BEGIN:STANDARD
TZOFFSETFROM:+0200
TZOFFSETTO:+0100
TZNAME:CET
DTSTART:20281029T010000
END:STANDARD
END:VTIMEZONE
BEGIN:VEVENT
DTSTART;TZID=Europe/Amsterdam:20261126T140000
DTEND;TZID=Europe/Amsterdam:20261126T160000
DTSTAMP:20260423T073123
CREATED:20260407T125154Z
LAST-MODIFIED:20260407T125418Z
UID:10000041-1795701600-1795708800@hetwesteraam.nl
SUMMARY:Minilessen groep 7/8
DESCRIPTION:Een dagje meelopen en ervaren hoe we lesgeven kan ook! Ben jij klaar voor een kijkje op de middelbare school en zit je nu in groep 7 of 8? Doe dan mee aan de Minilessen op 26 november 2026\, 14 januari 2027 of 11 maart 2027  (14.00 – 16.00 uur). Dit is jouw kans om te ontdekken hoe het eraan toegaat op Het Westeraam! 
URL:https://hetwesteraam.nl/agenda/minilessen-groep-78/2026-11-26/
END:VEVENT
BEGIN:VEVENT
DTSTART;TZID=Europe/Amsterdam:20270114T140000
DTEND;TZID=Europe/Amsterdam:20270114T160000
DTSTAMP:20260423T073123
CREATED:20260407T125154Z
LAST-MODIFIED:20260407T125418Z
UID:10000042-1799935200-1799942400@hetwesteraam.nl
SUMMARY:Minilessen groep 7/8
DESCRIPTION:Een dagje meelopen en ervaren hoe we lesgeven kan ook! Ben jij klaar voor een kijkje op de middelbare school en zit je nu in groep 7 of 8? Doe dan mee aan de Minilessen op 26 november 2026\, 14 januari 2027 of 11 maart 2027  (14.00 – 16.00 uur). Dit is jouw kans om te ontdekken hoe het eraan toegaat op Het Westeraam! 
URL:https://hetwesteraam.nl/agenda/minilessen-groep-78/2027-01-14/
END:VEVENT
BEGIN:VEVENT
DTSTART;TZID=Europe/Amsterdam:20270311T140000
DTEND;TZID=Europe/Amsterdam:20270311T160000
DTSTAMP:20260423T073123
CREATED:20260407T125154Z
LAST-MODIFIED:20260407T125418Z
UID:10000043-1804773600-1804780800@hetwesteraam.nl
SUMMARY:Minilessen groep 7/8
DESCRIPTION:Een dagje meelopen en ervaren hoe we lesgeven kan ook! Ben jij klaar voor een kijkje op de middelbare school en zit je nu in groep 7 of 8? Doe dan mee aan de Minilessen op 26 november 2026\, 14 januari 2027 of 11 maart 2027  (14.00 – 16.00 uur). Dit is jouw kans om te ontdekken hoe het eraan toegaat op Het Westeraam! 
URL:https://hetwesteraam.nl/agenda/minilessen-groep-78/2027-03-11/
END:VEVENT
END:VCALENDAR