BEGIN:VCALENDAR
VERSION:2.0
PRODID:-//Het Westeraam - ECPv6.15.16//NONSGML v1.0//EN
CALSCALE:GREGORIAN
METHOD:PUBLISH
X-ORIGINAL-URL:https://hetwesteraam.nl
X-WR-CALDESC:Evenementen voor Het Westeraam
REFRESH-INTERVAL;VALUE=DURATION:PT1H
X-Robots-Tag:noindex
X-PUBLISHED-TTL:PT1H
BEGIN:VTIMEZONE
TZID:Europe/Amsterdam
BEGIN:DAYLIGHT
TZOFFSETFROM:+0100
TZOFFSETTO:+0200
TZNAME:CEST
DTSTART:20240331T010000
END:DAYLIGHT
BEGIN:STANDARD
TZOFFSETFROM:+0200
TZOFFSETTO:+0100
TZNAME:CET
DTSTART:20241027T010000
END:STANDARD
BEGIN:DAYLIGHT
TZOFFSETFROM:+0100
TZOFFSETTO:+0200
TZNAME:CEST
DTSTART:20250330T010000
END:DAYLIGHT
BEGIN:STANDARD
TZOFFSETFROM:+0200
TZOFFSETTO:+0100
TZNAME:CET
DTSTART:20251026T010000
END:STANDARD
BEGIN:DAYLIGHT
TZOFFSETFROM:+0100
TZOFFSETTO:+0200
TZNAME:CEST
DTSTART:20260329T010000
END:DAYLIGHT
BEGIN:STANDARD
TZOFFSETFROM:+0200
TZOFFSETTO:+0100
TZNAME:CET
DTSTART:20261025T010000
END:STANDARD
BEGIN:DAYLIGHT
TZOFFSETFROM:+0100
TZOFFSETTO:+0200
TZNAME:CEST
DTSTART:20270328T010000
END:DAYLIGHT
BEGIN:STANDARD
TZOFFSETFROM:+0200
TZOFFSETTO:+0100
TZNAME:CET
DTSTART:20271031T010000
END:STANDARD
END:VTIMEZONE
BEGIN:VEVENT
DTSTART;VALUE=DATE:20260406
DTEND;VALUE=DATE:20260407
DTSTAMP:20260423T071830
CREATED:20260316T083531Z
LAST-MODIFIED:20260316T083531Z
UID:10000029-1775433600-1775519999@hetwesteraam.nl
SUMMARY:Pasen
DESCRIPTION:Alle leerlingen vrij
URL:https://hetwesteraam.nl/agenda/pasen/
END:VEVENT
BEGIN:VEVENT
DTSTART;TZID=Europe/Amsterdam:20260323T080000
DTEND;TZID=Europe/Amsterdam:20260327T170000
DTSTAMP:20260423T071830
CREATED:20250630T135623Z
LAST-MODIFIED:20250630T140710Z
UID:10000018-1774252800-1774630800@hetwesteraam.nl
SUMMARY:Toetsweek maart📚📖📝
DESCRIPTION:
URL:https://hetwesteraam.nl/agenda/toetsweek-maart/
END:VEVENT
BEGIN:VEVENT
DTSTART;TZID=Europe/Amsterdam:20260228T100000
DTEND;TZID=Europe/Amsterdam:20260228T140000
DTSTAMP:20260423T071830
CREATED:20250624T144746Z
LAST-MODIFIED:20260106T091947Z
UID:10000015-1772272800-1772287200@hetwesteraam.nl
SUMMARY:Open Dag
DESCRIPTION:Op 28 februari 2026 van 10.00 uur tot 14.00 uur is onze Open Dag. Voor alle leerlingen in groep 7 & 8\, hun ouder(s) en andere belangstellenden. \nMaak deze dag kennis met onze prachtige school! Proef de sfeer en ervaar ons unieke onderwijs.
URL:https://hetwesteraam.nl/agenda/open-dag/
LOCATION:Het Westeraam\, auditorium 6\, elst\, gelderland\, 6661 TZ\, Netherlands
END:VEVENT
BEGIN:VEVENT
DTSTART;VALUE=DATE:20260214
DTEND;VALUE=DATE:20260223
DTSTAMP:20260423T071830
CREATED:20250610T112417Z
LAST-MODIFIED:20250630T144507Z
UID:10000011-1771027200-1771804799@hetwesteraam.nl
SUMMARY:Voorjaarsvakantie🌸
DESCRIPTION:Valt in carnavalsweek
URL:https://hetwesteraam.nl/agenda/voorjaarsvakantie-2/
END:VEVENT
BEGIN:VEVENT
DTSTART;TZID=Europe/Amsterdam:20260112T080000
DTEND;TZID=Europe/Amsterdam:20260116T170000
DTSTAMP:20260423T071830
CREATED:20250630T135532Z
LAST-MODIFIED:20250630T140649Z
UID:10000017-1768204800-1768582800@hetwesteraam.nl
SUMMARY:Toetsweek Januari📚📖📝
DESCRIPTION:
URL:https://hetwesteraam.nl/agenda/toetsweek-januari/
END:VEVENT
BEGIN:VEVENT
DTSTART;VALUE=DATE:20251220
DTEND;VALUE=DATE:20260105
DTSTAMP:20260423T071830
CREATED:20250610T112322Z
LAST-MODIFIED:20250630T144559Z
UID:10000010-1766188800-1767571199@hetwesteraam.nl
SUMMARY:Kerstvakantie🎄
DESCRIPTION:
URL:https://hetwesteraam.nl/agenda/kerstvakantie/
END:VEVENT
BEGIN:VEVENT
DTSTART;TZID=Europe/Amsterdam:20251117T160000
DTEND;TZID=Europe/Amsterdam:20251117T200000
DTSTAMP:20260423T071830
CREATED:20250922T090420Z
LAST-MODIFIED:20251030T121412Z
UID:10000025-1763395200-1763409600@hetwesteraam.nl
SUMMARY:Oriëntatieprofielen leerjaar 2 met ouder(s)/verzorger(s)
DESCRIPTION:
URL:https://hetwesteraam.nl/agenda/orientatieprofielen-leerjaar-2-met-ouders-verzorgers/
END:VEVENT
BEGIN:VEVENT
DTSTART;TZID=Europe/Amsterdam:20251110T080000
DTEND;TZID=Europe/Amsterdam:20251114T170000
DTSTAMP:20260423T071830
CREATED:20250922T091209Z
LAST-MODIFIED:20250922T091209Z
UID:10000028-1762761600-1763139600@hetwesteraam.nl
SUMMARY:Week van Respect en Media Wijsheid
DESCRIPTION:
URL:https://hetwesteraam.nl/agenda/week-van-respect-en-media-wijsheid/
END:VEVENT
BEGIN:VEVENT
DTSTART;TZID=Europe/Amsterdam:20251029T140000
DTEND;TZID=Europe/Amsterdam:20251029T203000
DTSTAMP:20260423T071830
CREATED:20250922T091053Z
LAST-MODIFIED:20250922T091053Z
UID:10000027-1761746400-1761769800@hetwesteraam.nl
SUMMARY:Welkom in onze Wereld - kennismakingsevenement
DESCRIPTION:
URL:https://hetwesteraam.nl/agenda/welkom-in-onze-wereld-kennismakingsevenement/
END:VEVENT
BEGIN:VEVENT
DTSTART;TZID=Europe/Amsterdam:20251027T080000
DTEND;TZID=Europe/Amsterdam:20251031T170000
DTSTAMP:20260423T071830
CREATED:20250630T135408Z
LAST-MODIFIED:20250630T140656Z
UID:10000016-1761552000-1761930000@hetwesteraam.nl
SUMMARY:Toetsweek📚📖📝
DESCRIPTION:
URL:https://hetwesteraam.nl/agenda/toetsweek/
END:VEVENT
BEGIN:VEVENT
DTSTART;TZID=Europe/Amsterdam:20251022T080000
DTEND;TZID=Europe/Amsterdam:20251024T170000
DTSTAMP:20260423T071830
CREATED:20250922T090214Z
LAST-MODIFIED:20250922T090214Z
UID:10000024-1761120000-1761325200@hetwesteraam.nl
SUMMARY:Brugklas kamp
DESCRIPTION:
URL:https://hetwesteraam.nl/agenda/brugklas-kamp/
END:VEVENT
BEGIN:VEVENT
DTSTART;VALUE=DATE:20251011
DTEND;VALUE=DATE:20251020
DTSTAMP:20260423T071830
CREATED:20250610T112242Z
LAST-MODIFIED:20250630T144419Z
UID:10000009-1760140800-1760918399@hetwesteraam.nl
SUMMARY:Herfstvakantie🍁
DESCRIPTION:
URL:https://hetwesteraam.nl/agenda/herfstvakantie/
END:VEVENT
BEGIN:VEVENT
DTSTART;TZID=Europe/Amsterdam:20250930T153000
DTEND;TZID=Europe/Amsterdam:20250930T170000
DTSTAMP:20260423T071830
CREATED:20250922T090628Z
LAST-MODIFIED:20250922T090628Z
UID:10000026-1759246200-1759251600@hetwesteraam.nl
SUMMARY:Betuwe on Stage - beroepenmarkt leerjaar 2
DESCRIPTION:
URL:https://hetwesteraam.nl/agenda/betuwe-on-stage-beroepenmarkt-leerjaar-2/
END:VEVENT
BEGIN:VEVENT
DTSTART;VALUE=DATE:20250922
DTEND;VALUE=DATE:20250927
DTSTAMP:20260423T071830
CREATED:20250922T084341Z
LAST-MODIFIED:20250922T084341Z
UID:10000023-1758499200-1758931199@hetwesteraam.nl
SUMMARY:Week tegen het Pesten
DESCRIPTION:Campagne van School en Veiligheid
URL:https://hetwesteraam.nl/agenda/week-tegen-het-pesten/
END:VEVENT
BEGIN:VEVENT
DTSTART;VALUE=DATE:20250707
DTEND;VALUE=DATE:20250816
DTSTAMP:20260423T071830
CREATED:20250630T140442Z
LAST-MODIFIED:20250630T140839Z
UID:10000021-1751846400-1755302399@hetwesteraam.nl
SUMMARY:Zomervakantie 2025 🌞🏖️🍦
DESCRIPTION:
URL:https://hetwesteraam.nl/agenda/zomervakantie-2025-%f0%9f%8c%9e%f0%9f%8f%96%ef%b8%8f%f0%9f%8d%a6/
END:VEVENT
END:VCALENDAR